Workbook
Name AC_AREA_DATA_LGL_ID: AC_AREA_DATA!$B$3
Name AC_FUEL_DATA_LGL_ID: AC_FUEL_DATA!$B$3
Name AC_SRC_DATA_LGL_ID: AC_SRC_DATA!$B$3
Name AC_SUPPLY_DATA_LGL_ID: AC_SUPPLY_DATA!$B$3
Name ADD_HL_LIST_AREA_MARKER: 'Список территорий'!$K$17
Name ADD_LIST_AREA_RANGE: TECH_HORISONTAL!$4:$4
Name ALLOW_FUEL_FROM_PREV_YEAR_ORG_LIST: DICTIONARIES!$C$3:$C$6
Name ATH_SCHEME: TECHSHEET!$O$3
Name AUTHORIZATION_RANGE: AUTHORIZATION!$A$2:$B$2
Name COA_SUPPLY_MAX_PRICE: DICTIONARIES!$C$7:$C$7
Name COA_VOLUME_VALIDATION: DICTIONARIES!$C$8:$C$8
Name COAL_GRADE_LIST: TECHSHEET!$I$20:$I$28
Name CONTACTS_MARKER: Титульный!$E$31
Name CURRENT_PERIOD: TECHSHEET!$K$5
Name CURRENT_PERIOD_GENETIVE: TECHSHEET!$K$8
Name DELETE_HL_LIST_AREA_COLUMN_MARKER: 'Список территорий'!$E$14
Name DICTIONARY_DATA: DICTIONARIES!$B$3:$C$453
Name DICTIONARY_HEADER: DICTIONARIES!$A$1:$C$1
Name DIESEL_GRADE_LIST: TECHSHEET!$I$16:$I$19
Name DSL_SUPPLY_MAX_PRICE: DICTIONARIES!$C$9:$C$9
Name DSL_VOLUME_VALIDATION: DICTIONARIES!$C$10:$C$10
Name EXCLUDE_ORG_ILLEGALY: DICTIONARIES!$C$11:$C$16
Name EXCLUDE_ORG_LEGALY: DICTIONARIES!$C$17:$C$231
Name EXPORT_PRICE_DIESEL_5_APR: DICTIONARIES!$C$232:$C$232
Name EXPORT_PRICE_DIESEL_5_AUG: DICTIONARIES!$C$233:$C$233
Name EXPORT_PRICE_DIESEL_5_DEC: DICTIONARIES!$C$234:$C$234
Name EXPORT_PRICE_DIESEL_5_FEB: DICTIONARIES!$C$235:$C$235
Name EXPORT_PRICE_DIESEL_5_JAN: DICTIONARIES!$C$236:$C$236
Name EXPORT_PRICE_DIESEL_5_JUL: DICTIONARIES!$C$237:$C$237
Name EXPORT_PRICE_DIESEL_5_JUN: DICTIONARIES!$C$238:$C$238
Name EXPORT_PRICE_DIESEL_5_MAR: DICTIONARIES!$C$239:$C$239
Name EXPORT_PRICE_DIESEL_5_MAY: DICTIONARIES!$C$240:$C$240
Name EXPORT_PRICE_DIESEL_5_NOV: DICTIONARIES!$C$241:$C$241
Name EXPORT_PRICE_DIESEL_5_OCT: DICTIONARIES!$C$242:$C$242
Name EXPORT_PRICE_DIESEL_5_SEP: DICTIONARIES!$C$243:$C$243
Name FILE_STORE_DATA_RANGE: FILE_STORE_DATA!$B$2:$F$3
Name FUEL_DATA_ADD_HL_MARKER: Т!$G$92
Name FUEL_DATA_ADD_RANGE: TECH_HORISONTAL!$20:$55
Name FUEL_DATA_CALC_AREA: Т!$F$55:$GM$92
Name FUEL_DATA_CALC_USER_AREA: Т!$P$55:$GE$92
Name FUEL_DATA_COA_Q1_AREA: Т!$DG$55:$DG$92
Name FUEL_DATA_DELETE_HL_COLUMN_MARKER: Т!$E$54
Name FUEL_DATA_DSL_Q1_AREA: Т!$BG$55:$BG$92
Name FUEL_DATA_EE_PREVIOUS_RANGE: TECH_HORISONTAL!$S$58:$S$92
Name FUEL_DATA_EE_RANGE: TECH_HORISONTAL!$N$58:$N$92
Name FUEL_DATA_EMPTY_RANGE: TECH_HORISONTAL!$O$58:$O$92
Name FUEL_DATA_END_COLUMN_MARKER: Т!$GM$49
Name FUEL_DATA_GAS_PREVIOUS_RANGE: TECH_HORISONTAL!$Q$58:$Q$92
Name FUEL_DATA_GAS_RANGE: TECH_HORISONTAL!$L$58:$L$92
Name FUEL_DATA_GENERIC_PREVIOUS_RANGE: TECH_HORISONTAL!$R$58:$R$92
Name FUEL_DATA_GENERIC_RANGE: TECH_HORISONTAL!$M$58:$M$92
Name FUEL_DATA_HORISONTAL_AREA: Т!$F$54:$GM$54
Name FUEL_DATA_MST_Q1_AREA: Т!$CA$55:$CA$92
Name FUEL_DATA_NATURAL_GAS_PREVIOUS_RANGE: TECH_HORISONTAL!$P$58:$P$92
Name FUEL_DATA_NATURAL_GAS_RANGE: TECH_HORISONTAL!$K$58:$K$92
Name FUEL_DATA_NUM_COLUMN_MARKER: Т!$B$54
Name FUEL_DATA_Q1_SUM_AREA: Т!$GK$55:$GK$92
Name FUEL_DATA_Q2_SUM_AREA: Т!$GJ$55:$GJ$92
Name FUEL_DATA_Q3_SUM_AREA: Т!$GI$55:$GI$92
Name FUEL_DATA_Q4_SUM_AREA: Т!$GH$55:$GH$92

Sheet Инструкция
AA1: (требуется обновление)
B2: Код отчёта: WARM.TOPL.Q4.2022.EIAS
B3: Версия отчёта: 1.0.0
B5: ="Информация о фактически сложившихся ценах и объёмах потребления топлива по итогам "&CURRENT_PERIOD_GENETIVE&" "&PERIOD&" года" -> Информация о фактически сложившихся ценах и объёмах потребления топлива по итогам 12 месяцев 2022 года
B6: Условные обозначения
E8: A | F8: - предназначенные для заполнения | O8: A | P8: - ссылки и автозаполняемые поля
E9: A | F9: - с формулами и константами | O9: A | P9: - обязательные для заполнения
B11: Работа с реестрами
E12: Если в предложенном Вам списке необходимая организация, территория или объект отсутствуют, обновите списки с помощью элементов управления на листах. Если после обновления Вам не удалось найти необходимую позицию в списке, обратитесь к ответственному за поддержание реестра Вашего региона либо в Отдел сопровождения пользователей ЕИАС.
B13: Проверка отчёта
E14: • При сохранении отчётной формы осуществляется проверка корректности данных_x000D_ • Для каждого сообщения возможны 2 статуса: ошибка и предупреждение_x000D_ • При наличии сообщений со статусом «Ошибка» файл будет отклонён системой и не будет загружен в хранилище данных, сообщения со статусом «Предупреждение» носят информационный характер, и такой файл будет принят к обработке системой

Sheet Титульный
E3: обновление индикаторов проверки отчёта
E4: ="Информация о фактически сложившихся ценах и объёмах потребления топлива по итогам "&CURRENT_PERIOD_GENETIVE&" "&PERIOD&" года" -> Информация о фактически сложившихся ценах и объёмах потребления топлива по итогам 12 месяцев 2022 года
E6: Субъект РФ | H6: Ханты-Мансийский автономный округ | P6: MANDATORY
E8: Отчётный период | H8: =PERIOD -> 2022 | P8: MANDATORY
H9: =CURRENT_PERIOD -> 12 месяцев | P9: MANDATORY
E11: RST_ORG_ID
E13: Наименование ЮЛ / ИП | H13: ООО "ПриобьСтройГарант" | P13: MANDATORY
E15: ИНН | H15: 8614000871 | P15: MANDATORY
E16: КПП | H16: 861401001 | P16: MANDATORY
E17: ОГРН | H17: 1168617052757 | P17: MANDATORY
E18: Организационно-правовая форма | H18: 1 23 00 | Общества с ограниченной ответственностью | P18: MANDATORY
E20: Выбор организации | H20: по данным предыдущего мониторинга
E22: LGL_ID | H22: 6838174740
E31: Контактные данные
E33: Ответственный за предоставление информации | F33: ФИО | H33: Зыблева Александра Владимировна | P33: MANDATORY
F34: Должность | H34: Экономист | P34: MANDATORY
F35: Контактный телефон | H35: 8 (34678) 24-4-29 | P35: MANDATORY
F36: e-mail | H36: priobstroygarant@yandex.ru | P36: MANDATORY
E38: Дата последнего обновления реестра организаций: 10.02.2023, 17:19:13
E39: Дата последнего обновления реестра МР/МО/ОКТМО: 10.02.2023, 17:19:13
E40: Дата последнего обновления списка объектов регулируемой инфраструктуры: 10.02.2023, 17:19:42
E41: Дата загрузки в отчёт данных мониторинга "Информация о фактически сложившихся ценах и объёмах потребления топлива": 10.02.2023, 17:19:42
E42: Дата последнего обновления данных мониторинга принятых тарифных решений: 10.02.2023, 17:19:42

Sheet Список территорий
F1: =F12 -> № п/п | G1: =G12 -> ИНН | H1: =H12 -> КПП | I1: =I12 -> Наименование ЮЛ / ИП | J1: =J12 -> Организационно-правовая форма | K1: =K12 -> Наименование (описание) обособленного подразделения | L1: =L12 -> Вид(-ы) деятельности организации | M1: =M12 -> Плательщик НДС
F2: NUMBER | G2: INN | H2: KPP | I2: ORG | J2: OPF | K2: FIL | L2: VDET | M2: NDS
K4: Перечень муниципальных образований, на территории которых организация оказывает услуги теплоснабжения
F9: MANDATORY | G9: MANDATORY | H9: MANDATORY | I9: MANDATORY | J9: MANDATORY | K9: OPTIONAL | L9: MANDATORY | M9: MANDATORY | R9: MANDATORY | S9: MANDATORY | T9: MANDATORY | U9: MANDATORY | AC9: MANDATORY
F12: № п/п | G12: ИНН | H12: КПП | I12: Наименование ЮЛ / ИП | J12: Организационно-правовая форма | K12: Наименование (описание) обособленного подразделения | L12: Вид(-ы) деятельности организации | M12: Плательщик НДС | N12: Объекты организации | O12: RST_ORG_ID | P12: STATUS | R12: Муниципальный район | S12: Муниципальное образование | T12: ОКТМО | U12: Тип муниципального образования | AC12: Вид(-ы) теплоносителя(-ей) | CC12: Ответственный за предоставление информации
CC13: ФИО | CD13: Должность | CE13: (код) телефон | CF13: e-mail
F15: 0
D16: Изменить | E16: × | F16: 1 | G16: =IF(LEN(INN)=0,"Не определено",INN) -> 8614000871 | H16: =IF(LEN(KPP)=0,"Не определено",KPP) -> 861401001 | I16: =IF(LEN(ORG)=0,"Не определено",ORG) -> ООО "ПриобьСтройГарант" | J16: =IF(LEN(OPF)=0,"Не определено",OPF) -> 1 23 00 | Общества с ограниченной ответственностью | L16: Некомбинированное производство :: Передача :: Сбыт | M16: нет | N16: =IF('Список объектов'!$Q$16="","",'Список объектов'!$Q$16)&" объектов" -> 3 объектов | P16: =IF(LEN(BZ16)=0,"ACTI","DELD") -> ACTI | R16: Октябрьский муниципальный район | S16: Перегребное | T16: 71821428 | U16: =IF(LEN(T16)=0,"",VLOOKUP(T16,OKTMO_VS_TYPE_LIST,2,FALSE)) -> сельское поселение | AC16: Носитель - горячая вода (Т) | CC16: =IF(LEN(Титульный!$H$33)=0,"Не определено",Титульный!$H$33) -> Зыблева Александра Владимировна | CD16: =IF(LEN(Титульный!$H$34)=0,"Не определено",Титульный!$H$34) -> Экономист | CE16: =IF(LEN(Титульный!$H$35)=0,"Не определено",Титульный!$H$35) -> 8 (34678) 24-4-29 | CF16: =IF(LEN(Титульный!$H$36)=0,"Не определено",Титульный!$H$36) -> priobstroygarant@yandex.ru
K17: Добавить территорию

Sheet Список объектов
K4: Перечень объектов организации, оказывающей услуги теплоснабжения
AB9: MANDATORY | AC9: MANDATORY | AD9: MANDATORY | AE9: MANDATORY | AF9: MANDATORY | AG9: MANDATORY | AH9: MANDATORY | AI9: MANDATORY | AJ9: MANDATORY | AK9: MANDATORY | AL9: MANDATORY | AM9: MANDATORY | AN9: MANDATORY | AU9: MANDATORY | AV9: MANDATORY | AW9: MANDATORY | AX9: MANDATORY | AY9: MANDATORY | BH9: OPTIONAL | BI9: OPTIONAL | BJ9: OPTIONAL | BK9: OPTIONAL | BL9: OPTIONAL | BM9: OPTIONAL | BO9: MANDATORY
F12: № п/п | G12: ИНН | H12: КПП | I12: Наименование юридического лица | J12: Организационно-правовая форма | K12: Наименование (описание) обособленного подразделения | L12: Вид(-ы) деятельности организации | O12: RST_ORG_ID | Q12: Количество объектов | R12: NUMBER | T12: ОКТМО | AB12: № п/п | AC12: Наименование объекта | AD12: Тип объекта | AE12: Виды деятельности | AH12: Адрес объекта | AU12: Территория оказания услуг | BH12: Производство | BJ12: Передача | BL12: Сбыт | BO12: Вид(-ы) используемого топлива | CD12: Комментарии
AE13: Производство | AF13: Передача | AG13: Сбыт | AH13: Муниципальный район | AI13: Муниципальное образование | AJ13: ОКТМО | AK13: Населённый пункт | AL13: ОКТМО | AM13: улица, проезд, проспект, переулок и т.п. | AN13: дом, корпус, строение | AU13: Муниципальный район | AV13: Муниципальное образование | AW13: ОКТМО | AX13: Населённый пункт | AY13: ОКТМО | BH13: Установленная мощность, Гкал/час | BI13: Подключенная нагрузка, Гкал/час | BJ13: Установленная мощность, Гкал/час | BK13: Подключенная нагрузка, Гкал/час | BL13: Установленная мощность, Гкал/час | BM13: Подключенная нагрузка, Гкал/час
F15: 0
D16: Изменить | E16: Удалить | F16: =IF('Список территорий'!$F$16="","",'Список территорий'!$F$16) -> 1 | G16: =IF('Список территорий'!$G$16="","",'Список территорий'!$G$16) -> 8614000871 | H16: =IF('Список территорий'!$H$16="","",'Список территорий'!$H$16) -> 861401001 | I16: =IF('Список территорий'!$I$16="","",'Список территорий'!$I$16) -> ООО "ПриобьСтройГарант" | J16: =IF('Список территорий'!$J$16="","",'Список территорий'!$J$16) -> 1 23 00 | Общества с ограниченной ответственностью | K16: =IF('Список территорий'!$K$16="","",'Список территорий'!$K$16) | L16: =IF('Список территорий'!$L$16="","",'Список территорий'!$L$16) -> Некомбинированное производство :: Передача :: Сбыт | Q16: 3 | R16: =F16&".0" -> 1.0 | AB16: 0
Z17: Изменить | AA17: × | AB17: 1 | AC17: Котельная № 1 | AD17: ТИ | AE17: да | AF17: нет | AG17: нет | AH17: Октябрьский муниципальный район | AI17: Перегребное | AJ17: 71821428 | AK17: с Перегребное | AL17: 71821428101 | AM17: ул. Строителей | AN17: 8 В/1 | AU17: Октябрьский муниципальный район | AV17: Перегребное | AW17: 71821428 | AX17: с Перегребное | AY17: 71821428101 | BH17: 10.83 | BI17: 1.89 | BJ17: 0 | BK17: 0 | BL17: 0 | BM17: 0 | BO17: [Газ природный]
Z18: Изменить | AA18: × | AB18: 2 | AC18: Котельная № 2 | AD18: ТИ | AE18: да | AF18: нет | AG18: нет | AH18: Октябрьский муниципальный район | AI18: Перегребное | AJ18: 71821428 | AK18: д Чемаши | AL18: 71821428106 | AM18: ул. Ленина | AN18: 10 Г | AU18: Октябрьский муниципальный район | AV18: Перегребное | AW18: 71821428 | AX18: д Чемаши | AY18: 71821428106 | BH18: 0.86 | BI18: 0.24 | BJ18: 0 | BK18: 0 | BL18: 0 | BM18: 0 | BO18: [Газ природный]
Z19: Изменить | AA19: × | AB19: 3 | AC19: Котельная № 3 | AD19: ТИ | AE19: да | AF19: нет | AG19: нет | AH19: Октябрьский муниципальный район | AI19: Перегребное | AJ19: 71821428 | AK19: д Нижние Нарыкары | AL19: 71821428111 | AM19: пер. Клубный | AN19: 5 | AU19: Октябрьский муниципальный район | AV19: Перегребное | AW19: 71821428 | AX19: д Нижние Нарыкары | AY19: 71821428111 | BH19: 7.04 | BI19: 1.21 | BJ19: 0 | BK19: 0 | BL19: 0 | BM19: 0 | BO19: [Газ природный]
AC20: Добавить объект
K21: Добавить территорию

Sheet Т
F48: ="Информация о фактически сложившихся ценах и объёмах потребления топлива по итогам "&CURRENT_PERIOD_GENETIVE&" "&PERIOD&" года" -> Информация о фактически сложившихся ценах и объёмах потребления топлива по итогам 12 месяцев 2022 года
P49: NG | Q49: NG | R49: NG | S49: NG | T49: NGL | U49: NGL | V49: NGL | W49: NGL | X49: NGU | Y49: NGU | Z49: NGU | AA49: NGU | AB49: NGC | AC49: NGC | AD49: NGC | AE49: NGC | AF49: GBL | AG49: GBL | AH49: GBL | AI49: GBL | AJ49: GCK | AK49: GCK | AL49: GCK | AM49: GCK | AN49: GOA | AO49: GOA | AP49: GOA | AQ49: GOA | AR49: DSG | AS49: DSG | AT49: DSG | AU49: DSG | AV49: GCN | AW49: GCN | AX49: GCN | AY49: GCN | AZ49: LNG | BA49: LNG | BB49: LNG | BC49: LNG | BD49: DSL | BE49: DSL | BF49: DSL | BG49: DSL | BH49: DSLA | BI49: DSLA | BJ49: DSLA | BK49: DSLA | BL49: DSLW | BM49: DSLW | BN49: DSLW | BO49: DSLW | BP49: DSLS | BQ49: DSLS | BR49: DSLS | BS49: DSLS | BT49: DSLO | BU49: DSLO | BV49: DSLO | BW49: DSLO | BX49: MST | BY49: MST | BZ49: MST | CA49: MST | CB49: MSTM40 | CC49: MSTM40 | CD49: MSTM40 | CE49: MSTM40 | CF49: MSTM100 | CG49: MSTM100 | CH49: MSTM100 | CI49: MSTM100 | CJ49: MSTM200 | CK49: MSTM200 | CL49: MSTM200 | CM49: MSTM200 | CN49: MSTT | CO49: MSTT | CP49: MSTT | CQ49: MSTT | CR49: MSTF5 | CS49: MSTF5 | CT49: MSTF5 | CU49: MSTF5 | CV49: MSTF12 | CW49: MSTF12 | CX49: MSTF12 | CY49: MSTF12 | CZ49: OIL | DA49: OIL | DB49: OIL | DC49: OIL | DD49: COA | DE49: COA | DF49: COA | DG49: COA | DH49: COAA | DI49: COAA | DJ49: COAA | DK49: COAA | DL49: COAB | DM49: COAB | DN49: COAB | DO49: COAB | DP49: COAG | DQ49: COAG | DR49: COAG | DS49: COAG | DT49: COALF | DU49: COALF | DV49: COALF | DW49: COALF | DX49: COAF | DY49: COAF | DZ49: COAF | EA49: COAF | EB49: COAC | EC49: COAC | ED49: COAC | EE49: COAC | EF49: COASC | EG49: COASC | EH49: COASC | EI49: COASC | EJ49: COAWC | EK49: COAWC | EL49: COAWC | EM49: COAWC | EN49: COAS | EO49: COAS | EP49: COAS | EQ49: COAS | ER49: ENR | ES49: ENR | ET49: ENR | EU49: ENR | EV49: PWR | EW49: PWR | EX49: PWR | EY49: PWR | EZ49: CWD | FA49: CWD | FB49: CWD | FC49: CWD | FD49: WDS | FE49: WDS | FF49: WDS | FG49: WDS | FH49: PLT | FI49: PLT | FJ49: PLT | FK49: PLT | FL49: SAW | FM49: SAW | FN49: SAW | FO49: SAW | FP49: PEA | FQ49: PEA | FR49: PEA | FS49: PEA | FT49: SHL | FU49: SHL | FV49: SHL | FW49: SHL | FX49: STF | FY49: STF | FZ49: STF | GA49: STF | GB49: OTH | GC49: OTH | GD49: OTH | GE49: OTH
F50: № п/п | G50: Показатели | J50: Вид топлива | P50: Газ природный | T50: Газ природный | X50: Газ природный | AB50: Газ природный | AF50: Газ доменный | AJ50: Газ коксовый | AN50: Газ нефтяной (попутный) | AR50: Газ сухой отбензиненный | AV50: Газовый конденсат | AZ50: Газ сжиженный | BD50: Дизельное топливо | BH50: Дизельное топливо | BL50: Дизельное топливо | BP50: Дизельное топливо | BT50: Дизельное топливо | BX50: Мазут | CB50: Мазут | CF50: Мазут | CJ50: Мазут | CN50: Мазут | CR50: Мазут | CV50: Мазут | CZ50: Нефть | DD50: Уголь | DH50: Уголь | DL50: Уголь | DP50: Уголь | DT50: Уголь | DX50: Уголь | EB50: Уголь | EF50: Уголь | EJ50: Уголь | EN50: Уголь | ER50: Электроэнергия | EV50: Электроэнергия | EZ50: Уголь | FD50: Дрова | FH50: Пеллеты | FL50: Опилки | FP50: Торф | FT50: Сланцы | FX50: Печное бытовое топливо | GB50: Прочие виды топлива | GH50: SUM.Q4 | GI50: SUM.Q3 | GJ50: SUM.Q2 | GK50: SUM.Q1
J51: Марка топлива | P51: Всего | T51: Газ лимитный | X51: Газ сверхлимитный | AB51: Газ коммерческий | BD51: Всего | BH51: А (арктическое) | BL51: З (зимнее) | BP51: Л (летнее) | BT51: Е (межсезонное) | BX51: Всего | CB51: М-40 | CF51: М-100 | CJ51: М-200 | CN51: мазут марки "Т" | CR51: Ф-5 | CV51: Ф-12 | DD51: Всего | DH51: Уголь антрацит | DL51: Уголь бурый | DP51: Уголь газовый | DT51: Уголь длиннопламенный | DX51: Уголь жирный | EB51: Уголь коксовый | EF51: Уголь отощённо-спекающийся | EJ51: Уголь слабоспекающийся | EN51: Уголь тощий | ER51: Энергия | EV51: Заявленная мощность | EZ51: Уголь древесный
J52: Единица измерения | P52: тыс.куб.м | T52: тыс.куб.м | X52: тыс.куб.м | AB52: тыс.куб.м | AF52: тыс.куб.м | AJ52: тыс.куб.м | AN52: тыс.куб.м | AR52: тыс.куб.м | AV52: тнт | AZ52: тнт | BD52: тнт | BH52: тнт | BL52: тнт | BP52: тнт | BT52: тнт | BX52: тнт | CB52: тнт | CF52: тнт | CJ52: тнт | CN52: тнт | CR52: тнт | CV52: тнт | CZ52: тнт | DD52: тнт | DH52: тнт | DL52: тнт | DP52: тнт | DT52: тнт | DX52: тнт | EB52: тнт | EF52: тнт | EJ52: тнт | EN52: тнт | ER52: тыс.кВт*час | EV52: МВт | EZ52: тнт | FD52: тнт | FH52: тнт | FL52: тнт | FP52: тнт | FT52: тнт | FX52: тнт | GB52: тнт
J53: Период | P53: 12 месяцев | Q53: 9 месяцев | R53: I полугодие | S53: I квартал | T53: 12 месяцев | U53: 9 месяцев | V53: I полугодие | W53: I квартал | X53: 12 месяцев | Y53: 9 месяцев | Z53: I полугодие | AA53: I квартал | AB53: 12 месяцев | AC53: 9 месяцев | AD53: I полугодие | AE53: I квартал | AF53: 12 месяцев | AG53: 9 месяцев | AH53: I полугодие | AI53: I квартал | AJ53: 12 месяцев | AK53: 9 месяцев | AL53: I полугодие | AM53: I квартал | AN53: 12 месяцев | AO53: 9 месяцев | AP53: I полугодие | AQ53: I квартал | AR53: 12 месяцев | AS53: 9 месяцев | AT53: I полугодие | AU53: I квартал | AV53: 12 месяцев | AW53: 9 месяцев | AX53: I полугодие | AY53: I квартал | AZ53: 12 месяцев | BA53: 9 месяцев | BB53: I полугодие | BC53: I квартал | BD53: 12 месяцев | BE53: 9 месяцев | BF53: I полугодие | BG53: I квартал | BH53: 12 месяцев | BI53: 9 месяцев | BJ53: I полугодие | BK53: I квартал | BL53: 12 месяцев | BM53: 9 месяцев | BN53: I полугодие | BO53: I квартал | BP53: 12 месяцев | BQ53: 9 месяцев | BR53: I полугодие | BS53: I квартал | BT53: 12 месяцев | BU53: 9 месяцев | BV53: I полугодие | BW53: I квартал | BX53: 12 месяцев | BY53: 9 месяцев | BZ53: I полугодие | CA53: I квартал | CB53: 12 месяцев | CC53: 9 месяцев | CD53: I полугодие | CE53: I квартал | CF53: 12 месяцев | CG53: 9 месяцев | CH53: I полугодие | CI53: I квартал | CJ53: 12 месяцев | CK53: 9 месяцев | CL53: I полугодие | CM53: I квартал | CN53: 12 месяцев | CO53: 9 месяцев | CP53: I полугодие | CQ53: I квартал | CR53: 12 месяцев | CS53: 9 месяцев | CT53: I полугодие | CU53: I квартал | CV53: 12 месяцев | CW53: 9 месяцев | CX53: I полугодие | CY53: I квартал | CZ53: 12 месяцев | DA53: 9 месяцев | DB53: I полугодие | DC53: I квартал | DD53: 12 месяцев | DE53: 9 месяцев | DF53: I полугодие | DG53: I квартал | DH53: 12 месяцев | DI53: 9 месяцев | DJ53: I полугодие | DK53: I квартал | DL53: 12 месяцев | DM53: 9 месяцев | DN53: I полугодие | DO53: I квартал | DP53: 12 месяцев | DQ53: 9 месяцев | DR53: I полугодие | DS53: I квартал | DT53: 12 месяцев | DU53: 9 месяцев | DV53: I полугодие | DW53: I квартал | DX53: 12 месяцев | DY53: 9 месяцев | DZ53: I полугодие | EA53: I квартал | EB53: 12 месяцев | EC53: 9 месяцев | ED53: I полугодие | EE53: I квартал | EF53: 12 месяцев | EG53: 9 месяцев | EH53: I полугодие | EI53: I квартал | EJ53: 12 месяцев | EK53: 9 месяцев | EL53: I полугодие | EM53: I квартал | EN53: 12 месяцев | EO53: 9 месяцев | EP53: I полугодие | EQ53: I квартал | ER53: 12 месяцев | ES53: 9 месяцев | ET53: I полугодие | EU53: I квартал | EV53: 12 месяцев | EW53: 9 месяцев | EX53: I полугодие | EY53: I квартал | EZ53: 12 месяцев | FA53: 9 месяцев | FB53: I полугодие | FC53: I квартал | FD53: 12 месяцев | FE53: 9 месяцев | FF53: I полугодие | FG53: I квартал | FH53: 12 месяцев | FI53: 9 месяцев | FJ53: I полугодие | FK53: I квартал | FL53: 12 месяцев | FM53: 9 месяцев | FN53: I полугодие | FO53: I квартал | FP53: 12 месяцев | FQ53: 9 месяцев | FR53: I полугодие | FS53: I квартал | FT53: 12 месяцев | FU53: 9 месяцев | FV53: I полугодие | FW53: I квартал | FX53: 12 месяцев | FY53: 9 месяцев | FZ53: I полугодие | GA53: I квартал | GB53: 12 месяцев | GC53: 9 месяцев | GD53: I полугодие | GE53: I квартал | GH53: 12 месяцев | GI53: 9 месяцев | GJ53: I полугодие | GK53: I квартал
B55: 0
B56: =IF('Список территорий'!$F$16="","",'Список территорий'!$F$16) -> 1 | D56: =IF('Список территорий'!$M$16="да",NDS,1) -> 1 | E56: Удалить | F56: =B56 -> 1 | G56: ='Список территорий'!$S$16&" / "&'Список территорий'!$I$16&" / "&'Список территорий'!$K$16&" / "&'Список территорий'!$N$16 -> Перегребное / ООО "ПриобьСтройГарант" / / 3 объектов | L56: ='Список территорий'!$P$16 -> ACTI | M56: =SUM($P67:$GE67)+SUM($P87:$GE87) -> 44144.62 | T56: Исключить из расчёта | U56: Исключить из расчёта | V56: Исключить из расчёта | W56: Исключить из расчёта | X56: Включить в расчёт | Y56: Включить в расчёт | Z56: Включить в расчёт | AA56: Включить в расчёт | AB56: Включить в расчёт | AC56: Включить в расчёт | AD56: Включить в расчёт | AE56: Включить в расчёт | AF56: Включить в расчёт | AG56: Включить в расчёт | AH56: Включить в расчёт | AI56: Включить в расчёт | AJ56: Включить в расчёт | AK56: Включить в расчёт | AL56: Включить в расчёт | AM56: Включить в расчёт | AN56: Включить в расчёт | AO56: Включить в расчёт | AP56: Включить в расчёт | AQ56: Включить в расчёт | AR56: Включить в расчёт | AS56: Включить в расчёт | AT56: Включить в расчёт | AU56: Включить в расчёт | AV56: Включить в расчёт | AW56: Включить в расчёт | AX56: Включить в расчёт | AY56: Включить в расчёт | AZ56: Включить в расчёт | BA56: Включить в расчёт | BB56: Включить в расчёт | BC56: Включить в расчёт | BH56: Включить в расчёт | BI56: Включить в расчёт | BJ56: Включить в расчёт | BK56: Включить в расчёт | BL56: Включить в расчёт | BM56: Включить в расчёт | BN56: Включить в расчёт | BO56: Включить в расчёт | BP56: Включить в расчёт | BQ56: Включить в расчёт | BR56: Включить в расчёт | BS56: Включить в расчёт | BT56: Включить в расчёт | BU56: Включить в расчёт | BV56: Включить в расчёт | BW56: Включить в расчёт | CB56: Включить в расчёт | CC56: Включить в расчёт | CD56: Включить в расчёт | CE56: Включить в расчёт | CF56: Включить в расчёт | CG56: Включить в расчёт | CH56: Включить в расчёт | CI56: Включить в расчёт | CJ56: Включить в расчёт | CK56: Включить в расчёт | CL56: Включить в расчёт | CM56: Включить в расчёт | CN56: Включить в расчёт | CO56: Включить в расчёт | CP56: Включить в расчёт | CQ56: Включить в расчёт | CR56: Включить в расчёт | CS56: Включить в расчёт | CT56: Включить в расчёт | CU56: Включить в расчёт | CV56: Включить в расчёт | CW56: Включить в расчёт | CX56: Включить в расчёт | CY56: Включить в расчёт | CZ56: Включить в расчёт | DA56: Включить в расчёт | DB56: Включить в расчёт | DC56: Включить в расчёт | DH56: Включить в расчёт | DI56: Включить в расчёт | DJ56: Включить в расчёт | DK56: Включить в расчёт | DL56: Включить в расчёт | DM56: Включить в расчёт | DN56: Включить в расчёт | DO56: Включить в расчёт | DP56: Включить в расчёт | DQ56: Включить в расчёт | DR56: Включить в расчёт | DS56: Включить в расчёт | DT56: Включить в расчёт | DU56: Включить в расчёт | DV56: Включить в расчёт | DW56: Включить в расчёт | DX56: Включить в расчёт | DY56: Включить в расчёт | DZ56: Включить в расчёт | EA56: Включить в расчёт | EB56: Включить в расчёт | EC56: Включить в расчёт | ED56: Включить в расчёт | EE56: Включить в расчёт | EF56: Включить в расчёт | EG56: Включить в расчёт | EH56: Включить в расчёт | EI56: Включить в расчёт | EJ56: Включить в расчёт | EK56: Включить в расчёт | EL56: Включить в расчёт | EM56: Включить в расчёт | EN56: Включить в расчёт | EO56: Включить в расчёт | EP56: Включить в расчёт | EQ56: Включить в расчёт | ER56: Включить в расчёт | ES56: Включить в расчёт | ET56: Включить в расчёт | EU56: Включить в расчёт | EV56: Включить в расчёт | EW56: Включить в расчёт | EX56: Включить в расчёт | EY56: Включить в расчёт | EZ56: Включить в расчёт | FA56: Включить в расчёт | FB56: Включить в расчёт | FC56: Включить в расчёт | FD56: Включить в расчёт | FE56: Включить в расчёт | FF56: Включить в расчёт | FG56: Включить в расчёт | FH56: Включить в расчёт | FI56: Включить в расчёт | FJ56: Включить в расчёт | FK56: Включить в расчёт | FL56: Включить в расчёт | FM56: Включить в расчёт | FN56: Включить в расчёт | FO56: Включить в расчёт | FP56: Включить в расчёт | FQ56: Включить в расчёт | FR56: Включить в расчёт | FS56: Включить в расчёт | FT56: Включить в расчёт | FU56: Включить в расчёт | FV56: Включить в расчёт | FW56: Включить в расчёт | FX56: Включить в расчёт | FY56: Включить в расчёт | FZ56: Включить в расчёт | GA56: Включить в расчёт | GB56: Включить в расчёт | GC56: Включить в расчёт | GD56: Включить в расчёт | GE56: Включить в расчёт | GH56: =SUMIF($P$53:$GE$53,"12 месяцев",$P67:$GE67)+SUMIF($P$53:$GE$53,"12 месяцев",$P87:$GE87) -> 17563.436 | GI56: =SUMIF($P$53:$GE$53,"9 месяцев",$P67:$GE67)+SUMIF($P$53:$GE$53,"9 месяцев",$P87:$GE87) -> 10298.439 | GJ56: =SUMIF($P$53:$GE$53,"I полугодие",$P67:$GE67)+SUMIF($P$53:$GE$53,"I полугодие",$P87:$GE87) -> 9368.8945 | GK56: =SUMIF($P$53:$GE$53,"I квартал",$P67:$GE67)+SUMIF($P$53:$GE$53,"I квартал",$P87:$GE87) -> 6913.8504
Q57: =$D56 -> 1 | R57: =$D56 -> 1 | S57: =$D56 -> 1 | T57: =$D56 -> 1 | U57: =$D56 -> 1 | V57: =$D56 -> 1 | W57: =$D56 -> 1 | BE57: =$D56 -> 1 | BF57: =$D56 -> 1 | BG57: =$D56 -> 1 | BY57: =$D56 -> 1 | BZ57: =$D56 -> 1 | CA57: =$D56 -> 1 | DE57: =$D56 -> 1 | DF57: =$D56 -> 1 | DG57: =$D56 -> 1
F58: 1.1.1 | G58: Цена натурального топлива без учёта транспортировки (руб./ед.изм.) | J58: без НДС | T58: 5095.32 | U58: 4876.88 | V58: 4839.28 | W58: 4774.3629 | BD58: =IF(BD64=0,0,(BD67-BD75-BD80-BD85)*1000/BD64) -> 0 | BE58: =IF(BE64=0,0,(BE67-BE75-BE80-BE85)*1000/BE64) -> 0 | BF58: =IF(BF64=0,0,(BF67-BF75-BF80-BF85)*1000/BF64) -> 0 | BG58: =IF(BG64=0,0,(BG67-BG75-BG80-BG85)*1000/BG64) -> 0 | BX58: =IF(BX64=0,0,(BX67-BX75-BX80-BX85)*1000/BX64) -> 0 | BY58: =IF(BY64=0,0,(BY67-BY75-BY80-BY85)*1000/BY64) -> 0 | BZ58: =IF(BZ64=0,0,(BZ67-BZ75-BZ80-BZ85)*1000/BZ64) -> 0 | CA58: =IF(CA64=0,0,(CA67-CA75-CA80-CA85)*1000/CA64) -> 0 | DD58: =IF(DD64=0,0,(DD67-DD75-DD80-DD85)*1000/DD64) -> 0 | DE58: =IF(DE64=0,0,(DE67-DE75-DE80-DE85)*1000/DE64) -> 0 | DF58: =IF(DF64=0,0,(DF67-DF75-DF80-DF85)*1000/DF64) -> 0 | DG58: =IF(DG64=0,0,(DG67-DG75-DG80-DG85)*1000/DG64) -> 0
F59: 1.1.2 | J59: с НДС | T59: =T58*T57 -> 5095.32 | U59: =U58*U57 -> 4876.88 | V59: =V58*V57 -> 4839.28 | W59: =W58*W57 -> 4774.3629 | BD59: =IF(BD64=0,0,(BD68-BD76-BD81-BD86)*1000/BD64) -> 0 | BE59: =IF(BE64=0,0,(BE68-BE76-BE81-BE86)*1000/BE64) -> 0 | BF59: =IF(BF64=0,0,(BF68-BF76-BF81-BF86)*1000/BF64) -> 0 | BG59: =IF(BG64=0,0,(BG68-BG76-BG81-BG86)*1000/BG64) -> 0 | BX59: =IF(BX64=0,0,(BX68-BX76-BX81-BX86)*1000/BX64) -> 0 | BY59: =IF(BY64=0,0,(BY68-BY76-BY81-BY86)*1000/BY64) -> 0 | BZ59: =IF(BZ64=0,0,(BZ68-BZ76-BZ81-BZ86)*1000/BZ64) -> 0 | CA59: =IF(CA64=0,0,(CA68-CA76-CA81-CA86)*1000/CA64) -> 0 | DD59: =IF(DD64=0,0,(DD68-DD76-DD81-DD86)*1000/DD64) -> 0 | DE59: =IF(DE64=0,0,(DE68-DE76-DE81-DE86)*1000/DE64) -> 0 | DF59: =IF(DF64=0,0,(DF68-DF76-DF81-DF86)*1000/DF64) -> 0 | DG59: =IF(DG64=0,0,(DG68-DG76-DG81-DG86)*1000/DG64) -> 0
F60: 1.2.1 | G60: Цена натурального топлива с учётом транспортировки (руб./ед.изм.) | J60: без НДС | P60: =IF(P64=0,0,P67*1000/P64) -> 5095.32 | Q60: =IF(Q64=0,0,Q67*1000/Q64) -> 4876.88 | R60: =IF(R64=0,0,R67*1000/R64) -> 4839.28 | S60: =IF(S64=0,0,S67*1000/S64) -> 4774.3629 | T60: 5095.32 | U60: 4876.88 | V60: 4839.28 | W60: 4774.3629 | BD60: =IF(BD64=0,0,BD67*1000/BD64) -> 0 | BE60: =IF(BE64=0,0,BE67*1000/BE64) -> 0 | BF60: =IF(BF64=0,0,BF67*1000/BF64) -> 0 | BG60: =IF(BG64=0,0,BG67*1000/BG64) -> 0 | BX60: =IF(BX64=0,0,BX67*1000/BX64) -> 0 | BY60: =IF(BY64=0,0,BY67*1000/BY64) -> 0 | BZ60: =IF(BZ64=0,0,BZ67*1000/BZ64) -> 0 | CA60: =IF(CA64=0,0,CA67*1000/CA64) -> 0 | DD60: =IF(DD64=0,0,DD67*1000/DD64) -> 0 | DE60: =IF(DE64=0,0,DE67*1000/DE64) -> 0 | DF60: =IF(DF64=0,0,DF67*1000/DF64) -> 0 | DG60: =IF(DG64=0,0,DG67*1000/DG64) -> 0
F61: 1.2.2 | J61: с НДС | P61: =IF(P64=0,0,P68*1000/P64) -> 5095.32 | Q61: =IF(Q64=0,0,Q68*1000/Q64) -> 4876.88 | R61: =IF(R64=0,0,R68*1000/R64) -> 4839.28 | S61: =IF(S64=0,0,S68*1000/S64) -> 4774.3629 | T61: =T60*T57 -> 5095.32 | U61: =U60*U57 -> 4876.88 | V61: =V60*V57 -> 4839.28 | W61: =W60*W57 -> 4774.3629 | BD61: =IF(BD64=0,0,BD68*1000/BD64) -> 0 | BE61: =IF(BE64=0,0,BE68*1000/BE64) -> 0 | BF61: =IF(BF64=0,0,BF68*1000/BF64) -> 0 | BG61: =IF(BG64=0,0,BG68*1000/BG64) -> 0 | BX61: =IF(BX64=0,0,BX68*1000/BX64) -> 0 | BY61: =IF(BY64=0,0,BY68*1000/BY64) -> 0 | BZ61: =IF(BZ64=0,0,BZ68*1000/BZ64) -> 0 | CA61: =IF(CA64=0,0,CA68*1000/CA64) -> 0 | DD61: =IF(DD64=0,0,DD68*1000/DD64) -> 0 | DE61: =IF(DE64=0,0,DE68*1000/DE64) -> 0 | DF61: =IF(DF64=0,0,DF68*1000/DF64) -> 0 | DG61: =IF(DG64=0,0,DG68*1000/DG64) -> 0
F62: 1.3.1 | G62: Цена условного топлива с учётом транспортировки (руб./тут) | J62: без НДС | P62: =IF(P66=0,0,P67*1000/P66) -> 4450.0611 | Q62: =IF(Q66=0,0,Q67*1000/Q66) -> 4259.2838 | R62: =IF(R66=0,0,R67*1000/R66) -> 4226.4454 | S62: =IF(S66=0,0,S67*1000/S66) -> 4151.6199 | T62: =IF(T66=0,0,T67*1000/T66) -> 4450.0611 | U62: =IF(U66=0,0,U67*1000/U66) -> 4259.2838 | V62: =IF(V66=0,0,V67*1000/V66) -> 4226.4454 | W62: =IF(W66=0,0,W67*1000/W66) -> 4151.6199 | BD62: =IF(BD66=0,0,BD67*1000/BD66) -> 0 | BE62: =IF(BE66=0,0,BE67*1000/BE66) -> 0 | BF62: =IF(BF66=0,0,BF67*1000/BF66) -> 0 | BG62: =IF(BG66=0,0,BG67*1000/BG66) -> 0 | BX62: =IF(BX66=0,0,BX67*1000/BX66) -> 0 | BY62: =IF(BY66=0,0,BY67*1000/BY66) -> 0 | BZ62: =IF(BZ66=0,0,BZ67*1000/BZ66) -> 0 | CA62: =IF(CA66=0,0,CA67*1000/CA66) -> 0 | DD62: =IF(DD66=0,0,DD67*1000/DD66) -> 0 | DE62: =IF(DE66=0,0,DE67*1000/DE66) -> 0 | DF62: =IF(DF66=0,0,DF67*1000/DF66) -> 0 | DG62: =IF(DG66=0,0,DG67*1000/DG66) -> 0
F63: 1.3.2 | J63: с НДС | P63: =IF(P66=0,0,P68*1000/P66) -> 4450.0611 | Q63: =IF(Q66=0,0,Q68*1000/Q66) -> 4259.2838 | R63: =IF(R66=0,0,R68*1000/R66) -> 4226.4454 | S63: =IF(S66=0,0,S68*1000/S66) -> 4151.6199 | T63: =IF(T66=0,0,T68*1000/T66) -> 4450.0611 | U63: =IF(U66=0,0,U68*1000/U66) -> 4259.2838 | V63: =IF(V66=0,0,V68*1000/V66) -> 4226.4454 | W63: =IF(W66=0,0,W68*1000/W66) -> 4151.6199 | BD63: =IF(BD66=0,0,BD68*1000/BD66) -> 0 | BE63: =IF(BE66=0,0,BE68*1000/BE66) -> 0 | BF63: =IF(BF66=0,0,BF68*1000/BF66) -> 0 | BG63: =IF(BG66=0,0,BG68*1000/BG66) -> 0 | BX63: =IF(BX66=0,0,BX68*1000/BX66) -> 0 | BY63: =IF(BY66=0,0,BY68*1000/BY66) -> 0 | BZ63: =IF(BZ66=0,0,BZ68*1000/BZ66) -> 0 | CA63: =IF(CA66=0,0,CA68*1000/CA66) -> 0 | DD63: =IF(DD66=0,0,DD68*1000/DD66) -> 0 | DE63: =IF(DE66=0,0,DE68*1000/DE66) -> 0 | DF63: =IF(DF66=0,0,DF68*1000/DF66) -> 0 | DG63: =IF(DG66=0,0,DG68*1000/DG66) -> 0
F64: 2.1 | G64: Объём натурального топлива, всего | P64: =SUM(T64,X64,AB64) -> 1723.487 | Q64: =SUM(U64,Y64,AC64) -> 1055.843 | R64: =SUM(V64,Z64,AD64) -> 968.005 | S64: =SUM(W64,AA64,AE64) -> 724.06 | T64: 1723.487 | U64: 1055.843 | V64: 968.005 | W64: 724.06 | BD64: =SUM(BH64,BL64,BP64,BT64) -> 0 | BE64: =SUM(BI64,BM64,BQ64,BU64) -> 0 | BF64: =SUM(BJ64,BN64,BR64,BV64) -> 0 | BG64: =SUM(BK64,BO64,BS64,BW64) -> 0 | BX64: =SUM(CB64,CF64,CJ64,CN64,CR64,CV64) -> 0 | BY64: =SUM(CC64,CG64,CK64,CO64,CS64,CW64) -> 0 | BZ64: =SUM(CD64,CH64,CL64,CP64,CT64,CX64) -> 0 | CA64: =SUM(CE64,CI64,CM64,CQ64,CU64,CY64) -> 0 | DD64: =SUM(DH64,DL64,DP64,DT64,DX64,EB64,EF64,EJ64,EN64) -> 0 | DE64: =SUM(DI64,DM64,DQ64,DU64,DY64,EC64,EG64,EK64,EO64) -> 0 | DF64: =SUM(DJ64,DN64,DR64,DV64,DZ64,ED64,EH64,EL64,EP64) -> 0 | DG64: =SUM(DK64,DO64,DS64,DW64,EA64,EE64,EI64,EM64,EQ64) -> 0
F65: 2.2 | G65: Переводной коэффициент | T65: 1.145 | U65: 1.145 | V65: 1.145 | W65: 1.15
F66: 2.3 | G66: Объём условного топлива, всего (тут) | P66: =SUM(T66,X66,AB66) -> 1973.3926 | Q66: =SUM(U66,Y66,AC66) -> 1208.9402 | R66: =SUM(V66,Z66,AD66) -> 1108.3657 | S66: =SUM(W66,AA66,AE66) -> 832.669 | T66: =T64*T65 -> 1973.3926 | U66: =U64*U65 -> 1208.9402 | V66: =V64*V65 -> 1108.3657 | W66: =W64*W65 -> 832.669 | BD66: =SUM(BH66,BL66,BP66,BT66) -> 0 | BE66: =SUM(BI66,BM66,BQ66,BU66) -> 0 | BF66: =SUM(BJ66,BN66,BR66,BV66) -> 0 | BG66: =SUM(BK66,BO66,BS66,BW66) -> 0 | BX66: =SUM(CB66,CF66,CJ66,CN66,CR66,CV66) -> 0 | BY66: =SUM(CC66,CG66,CK66,CO66,CS66,CW66) -> 0 | BZ66: =SUM(CD66,CH66,CL66,CP66,CT66,CX66) -> 0 | CA66: =SUM(CE66,CI66,CM66,CQ66,CU66,CY66) -> 0 | DD66: =SUM(DH66,DL66,DP66,DT66,DX66,EB66,EF66,EJ66,EN66) -> 0 | DE66: =SUM(DI66,DM66,DQ66,DU66,DY66,EC66,EG66,EK66,EO66) -> 0 | DF66: =SUM(DJ66,DN66,DR66,DV66,DZ66,ED66,EH66,EL66,EP66) -> 0 | DG66: =SUM(DK66,DO66,DS66,DW66,EA66,EE66,EI66,EM66,EQ66) -> 0
F67: 3.1 | G67: Затраты на топливо, всего (тыс.руб.) | J67: без НДС | P67: =SUM(T67,X67,AB67) -> 8781.7178 | Q67: =SUM(U67,Y67,AC67) -> 5149.2196 | R67: =SUM(V67,Z67,AD67) -> 4684.4472 | S67: =SUM(W67,AA67,AE67) -> 3456.9252 | T67: =T60*T64/1000 -> 8781.7178 | U67: =U60*U64/1000 -> 5149.2196 | V67: =V60*V64/1000 -> 4684.4472 | W67: =W60*W64/1000 -> 3456.9252 | BD67: =SUM(BH67,BL67,BP67,BT67) -> 0 | BE67: =SUM(BI67,BM67,BQ67,BU67) -> 0 | BF67: =SUM(BJ67,BN67,BR67,BV67) -> 0 | BG67: =SUM(BK67,BO67,BS67,BW67) -> 0 | BX67: =SUM(CB67,CF67,CJ67,CN67,CR67,CV67) -> 0 | BY67: =SUM(CC67,CG67,CK67,CO67,CS67,CW67) -> 0 | BZ67: =SUM(CD67,CH67,CL67,CP67,CT67,CX67) -> 0 | CA67: =SUM(CE67,CI67,CM67,CQ67,CU67,CY67) -> 0 | DD67: =SUM(DH67,DL67,DP67,DT67,DX67,EB67,EF67,EJ67,EN67) -> 0 | DE67: =SUM(DI67,DM67,DQ67,DU67,DY67,EC67,EG67,EK67,EO67) -> 0 | DF67: =SUM(DJ67,DN67,DR67,DV67,DZ67,ED67,EH67,EL67,EP67) -> 0 | DG67: =SUM(DK67,DO67,DS67,DW67,EA67,EE67,EI67,EM67,EQ67) -> 0
F68: 3.2 | J68: с НДС | P68: =SUM(T68,X68,AB68) -> 8781.7178 | Q68: =SUM(U68,Y68,AC68) -> 5149.2196 | R68: =SUM(V68,Z68,AD68) -> 4684.4472 | S68: =SUM(W68,AA68,AE68) -> 3456.9252 | T68: =T61*T64/1000 -> 8781.7178 | U68: =U61*U64/1000 -> 5149.2196 | V68: =V61*V64/1000 -> 4684.4472 | W68: =W61*W64/1000 -> 3456.9252 | BD68: =SUM(BH68,BL68,BP68,BT68) -> 0 | BE68: =SUM(BI68,BM68,BQ68,BU68) -> 0 | BF68: =SUM(BJ68,BN68,BR68,BV68) -> 0 | BG68: =SUM(BK68,BO68,BS68,BW68) -> 0 | BX68: =SUM(CB68,CF68,CJ68,CN68,CR68,CV68) -> 0 | BY68: =SUM(CC68,CG68,CK68,CO68,CS68,CW68) -> 0 | BZ68: =SUM(CD68,CH68,CL68,CP68,CT68,CX68) -> 0 | CA68: =SUM(CE68,CI68,CM68,CQ68,CU68,CY68) -> 0 | DD68: =SUM(DH68,DL68,DP68,DT68,DX68,EB68,EF68,EJ68,EN68) -> 0 | DE68: =SUM(DI68,DM68,DQ68,DU68,DY68,EC68,EG68,EK68,EO68) -> 0 | DF68: =SUM(DJ68,DN68,DR68,DV68,DZ68,ED68,EH68,EL68,EP68) -> 0 | DG68: =SUM(DK68,DO68,DS68,DW68,EA68,EE68,EI68,EM68,EQ68) -> 0
F69: 4.1.1 | G69: Топливо, транспортируемое по сетям, магистралям (трубопроводам) | I69: Средний тариф транзитной транспортировки (руб./тыс.куб.м) | J69: без НДС
F70: 4.1.2 | J70: с НДС | T70: =T69*T57 -> 0 | U70: =U69*U57 -> 0 | V70: =V69*V57 -> 0 | W70: =W69*W57 -> 0
F71: 4.2 | I71: Объём топлива, транспортируемого в транзитном потоке | P71: =SUM(T71,X71,AB71) -> 0 | Q71: =SUM(U71,Y71,AC71) -> 0 | R71: =SUM(V71,Z71,AD71) -> 0 | S71: =SUM(W71,AA71,AE71) -> 0
F72: 5.1.1 | G72: Топливо, транспортируемое по дорогам (авто, ж/д), а также прочие виды транспортировки | H72: Транспортировка топлива автоперевозками | I72: Тариф (цена за единицу) (руб./ед.изм.) | J72: без НДС | BD72: =IF(BD74=0,0,BD75*1000/BD74) -> 0 | BE72: =IF(BE74=0,0,BE75*1000/BE74) -> 0 | BF72: =IF(BF74=0,0,BF75*1000/BF74) -> 0 | BG72: =IF(BG74=0,0,BG75*1000/BG74) -> 0 | BX72: =IF(BX74=0,0,BX75*1000/BX74) -> 0 | BY72: =IF(BY74=0,0,BY75*1000/BY74) -> 0 | BZ72: =IF(BZ74=0,0,BZ75*1000/BZ74) -> 0 | CA72: =IF(CA74=0,0,CA75*1000/CA74) -> 0 | DD72: =IF(DD74=0,0,DD75*1000/DD74) -> 0 | DE72: =IF(DE74=0,0,DE75*1000/DE74) -> 0 | DF72: =IF(DF74=0,0,DF75*1000/DF74) -> 0 | DG72: =IF(DG74=0,0,DG75*1000/DG74) -> 0
F73: 5.1.2 | J73: с НДС | BD73: =IF(BD74=0,0,BD76*1000/BD74) -> 0 | BE73: =IF(BE74=0,0,BE76*1000/BE74) -> 0 | BF73: =IF(BF74=0,0,BF76*1000/BF74) -> 0 | BG73: =IF(BG74=0,0,BG76*1000/BG74) -> 0 | BX73: =IF(BX74=0,0,BX76*1000/BX74) -> 0 | BY73: =IF(BY74=0,0,BY76*1000/BY74) -> 0 | BZ73: =IF(BZ74=0,0,BZ76*1000/BZ74) -> 0 | CA73: =IF(CA74=0,0,CA76*1000/CA74) -> 0 | DD73: =IF(DD74=0,0,DD76*1000/DD74) -> 0 | DE73: =IF(DE74=0,0,DE76*1000/DE74) -> 0 | DF73: =IF(DF74=0,0,DF76*1000/DF74) -> 0 | DG73: =IF(DG74=0,0,DG76*1000/DG74) -> 0
F74: 5.2 | I74: Объём топлива | BD74: =SUM(BH74,BL74,BP74,BT74) -> 0 | BE74: =SUM(BI74,BM74,BQ74,BU74) -> 0 | BF74: =SUM(BJ74,BN74,BR74,BV74) -> 0 | BG74: =SUM(BK74,BO74,BS74,BW74) -> 0 | BX74: =SUM(CB74,CF74,CJ74,CN74,CR74,CV74) -> 0 | BY74: =SUM(CC74,CG74,CK74,CO74,CS74,CW74) -> 0 | BZ74: =SUM(CD74,CH74,CL74,CP74,CT74,CX74) -> 0 | CA74: =SUM(CE74,CI74,CM74,CQ74,CU74,CY74) -> 0 | DD74: =SUM(DH74,DL74,DP74,DT74,DX74,EB74,EF74,EJ74,EN74) -> 0 | DE74: =SUM(DI74,DM74,DQ74,DU74,DY74,EC74,EG74,EK74,EO74) -> 0 | DF74: =SUM(DJ74,DN74,DR74,DV74,DZ74,ED74,EH74,EL74,EP74) -> 0 | DG74: =SUM(DK74,DO74,DS74,DW74,EA74,EE74,EI74,EM74,EQ74) -> 0
F75: 5.3.1 | I75: Затраты (тыс.руб.) | J75: без НДС | BD75: =SUM(BH75,BL75,BP75,BT75) -> 0 | BE75: =SUM(BI75,BM75,BQ75,BU75) -> 0 | BF75: =SUM(BJ75,BN75,BR75,BV75) -> 0 | BG75: =SUM(BK75,BO75,BS75,BW75) -> 0 | BX75: =SUM(CB75,CF75,CJ75,CN75,CR75,CV75) -> 0 | BY75: =SUM(CC75,CG75,CK75,CO75,CS75,CW75) -> 0 | BZ75: =SUM(CD75,CH75,CL75,CP75,CT75,CX75) -> 0 | CA75: =SUM(CE75,CI75,CM75,CQ75,CU75,CY75) -> 0 | DD75: =SUM(DH75,DL75,DP75,DT75,DX75,EB75,EF75,EJ75,EN75) -> 0 | DE75: =SUM(DI75,DM75,DQ75,DU75,DY75,EC75,EG75,EK75,EO75) -> 0 | DF75: =SUM(DJ75,DN75,DR75,DV75,DZ75,ED75,EH75,EL75,EP75) -> 0 | DG75: =SUM(DK75,DO75,DS75,DW75,EA75,EE75,EI75,EM75,EQ75) -> 0
F76: 5.3.2 | J76: с НДС | BD76: =SUM(BH76,BL76,BP76,BT76) -> 0 | BE76: =SUM(BI76,BM76,BQ76,BU76) -> 0 | BF76: =SUM(BJ76,BN76,BR76,BV76) -> 0 | BG76: =SUM(BK76,BO76,BS76,BW76) -> 0 | BX76: =SUM(CB76,CF76,CJ76,CN76,CR76,CV76) -> 0 | BY76: =SUM(CC76,CG76,CK76,CO76,CS76,CW76) -> 0 | BZ76: =SUM(CD76,CH76,CL76,CP76,CT76,CX76) -> 0 | CA76: =SUM(CE76,CI76,CM76,CQ76,CU76,CY76) -> 0 | DD76: =SUM(DH76,DL76,DP76,DT76,DX76,EB76,EF76,EJ76,EN76) -> 0 | DE76: =SUM(DI76,DM76,DQ76,DU76,DY76,EC76,EG76,EK76,EO76) -> 0 | DF76: =SUM(DJ76,DN76,DR76,DV76,DZ76,ED76,EH76,EL76,EP76) -> 0 | DG76: =SUM(DK76,DO76,DS76,DW76,EA76,EE76,EI76,EM76,EQ76) -> 0
F77: 6.1.1 | H77: Транспортировка топлива ж/д перевозками | I77: Тариф (цена за единицу) (руб./ед.изм.) | J77: без НДС | BD77: =IF(BD79=0,0,BD80*1000/BD79) -> 0 | BE77: =IF(BE79=0,0,BE80*1000/BE79) -> 0 | BF77: =IF(BF79=0,0,BF80*1000/BF79) -> 0 | BG77: =IF(BG79=0,0,BG80*1000/BG79) -> 0 | BX77: =IF(BX79=0,0,BX80*1000/BX79) -> 0 | BY77: =IF(BY79=0,0,BY80*1000/BY79) -> 0 | BZ77: =IF(BZ79=0,0,BZ80*1000/BZ79) -> 0 | CA77: =IF(CA79=0,0,CA80*1000/CA79) -> 0 | DD77: =IF(DD79=0,0,DD80*1000/DD79) -> 0 | DE77: =IF(DE79=0,0,DE80*1000/DE79) -> 0 | DF77: =IF(DF79=0,0,DF80*1000/DF79) -> 0 | DG77: =IF(DG79=0,0,DG80*1000/DG79) -> 0
F78: 6.1.2 | J78: с НДС | BD78: =IF(BD79=0,0,BD81*1000/BD79) -> 0 | BE78: =IF(BE79=0,0,BE81*1000/BE79) -> 0 | BF78: =IF(BF79=0,0,BF81*1000/BF79) -> 0 | BG78: =IF(BG79=0,0,BG81*1000/BG79) -> 0 | BX78: =IF(BX79=0,0,BX81*1000/BX79) -> 0 | BY78: =IF(BY79=0,0,BY81*1000/BY79) -> 0 | BZ78: =IF(BZ79=0,0,BZ81*1000/BZ79) -> 0 | CA78: =IF(CA79=0,0,CA81*1000/CA79) -> 0 | DD78: =IF(DD79=0,0,DD81*1000/DD79) -> 0 | DE78: =IF(DE79=0,0,DE81*1000/DE79) -> 0 | DF78: =IF(DF79=0,0,DF81*1000/DF79) -> 0 | DG78: =IF(DG79=0,0,DG81*1000/DG79) -> 0
F79: 6.2 | I79: Объём топлива | BD79: =SUM(BH79,BL79,BP79,BT79) -> 0 | BE79: =SUM(BI79,BM79,BQ79,BU79) -> 0 | BF79: =SUM(BJ79,BN79,BR79,BV79) -> 0 | BG79: =SUM(BK79,BO79,BS79,BW79) -> 0 | BX79: =SUM(CB79,CF79,CJ79,CN79,CR79,CV79) -> 0 | BY79: =SUM(CC79,CG79,CK79,CO79,CS79,CW79) -> 0 | BZ79: =SUM(CD79,CH79,CL79,CP79,CT79,CX79) -> 0 | CA79: =SUM(CE79,CI79,CM79,CQ79,CU79,CY79) -> 0 | DD79: =SUM(DH79,DL79,DP79,DT79,DX79,EB79,EF79,EJ79,EN79) -> 0 | DE79: =SUM(DI79,DM79,DQ79,DU79,DY79,EC79,EG79,EK79,EO79) -> 0 | DF79: =SUM(DJ79,DN79,DR79,DV79,DZ79,ED79,EH79,EL79,EP79) -> 0 | DG79: =SUM(DK79,DO79,DS79,DW79,EA79,EE79,EI79,EM79,EQ79) -> 0
F80: 6.3.1 | I80: Затраты (тыс.руб.) | J80: без НДС | BD80: =SUM(BH80,BL80,BP80,BT80) -> 0 | BE80: =SUM(BI80,BM80,BQ80,BU80) -> 0 | BF80: =SUM(BJ80,BN80,BR80,BV80) -> 0 | BG80: =SUM(BK80,BO80,BS80,BW80) -> 0 | BX80: =SUM(CB80,CF80,CJ80,CN80,CR80,CV80) -> 0 | BY80: =SUM(CC80,CG80,CK80,CO80,CS80,CW80) -> 0 | BZ80: =SUM(CD80,CH80,CL80,CP80,CT80,CX80) -> 0 | CA80: =SUM(CE80,CI80,CM80,CQ80,CU80,CY80) -> 0 | DD80: =SUM(DH80,DL80,DP80,DT80,DX80,EB80,EF80,EJ80,EN80) -> 0 | DE80: =SUM(DI80,DM80,DQ80,DU80,DY80,EC80,EG80,EK80,EO80) -> 0 | DF80: =SUM(DJ80,DN80,DR80,DV80,DZ80,ED80,EH80,EL80,EP80) -> 0 | DG80: =SUM(DK80,DO80,DS80,DW80,EA80,EE80,EI80,EM80,EQ80) -> 0
F81: 6.3.2 | J81: с НДС | BD81: =SUM(BH81,BL81,BP81,BT81) -> 0 | BE81: =SUM(BI81,BM81,BQ81,BU81) -> 0 | BF81: =SUM(BJ81,BN81,BR81,BV81) -> 0 | BG81: =SUM(BK81,BO81,BS81,BW81) -> 0 | BX81: =SUM(CB81,CF81,CJ81,CN81,CR81,CV81) -> 0 | BY81: =SUM(CC81,CG81,CK81,CO81,CS81,CW81) -> 0 | BZ81: =SUM(CD81,CH81,CL81,CP81,CT81,CX81) -> 0 | CA81: =SUM(CE81,CI81,CM81,CQ81,CU81,CY81) -> 0 | DD81: =SUM(DH81,DL81,DP81,DT81,DX81,EB81,EF81,EJ81,EN81) -> 0 | DE81: =SUM(DI81,DM81,DQ81,DU81,DY81,EC81,EG81,EK81,EO81) -> 0 | DF81: =SUM(DJ81,DN81,DR81,DV81,DZ81,ED81,EH81,EL81,EP81) -> 0 | DG81: =SUM(DK81,DO81,DS81,DW81,EA81,EE81,EI81,EM81,EQ81) -> 0
F82: 7.1.1 | H82: Транспортировка топлива иными видами перевозок | I82: Тариф (цена за единицу) (руб./ед.изм.) | J82: без НДС | BD82: =IF(BD84=0,0,BD85*1000/BD84) -> 0 | BE82: =IF(BE84=0,0,BE85*1000/BE84) -> 0 | BF82: =IF(BF84=0,0,BF85*1000/BF84) -> 0 | BG82: =IF(BG84=0,0,BG85*1000/BG84) -> 0 | BX82: =IF(BX84=0,0,BX85*1000/BX84) -> 0 | BY82: =IF(BY84=0,0,BY85*1000/BY84) -> 0 | BZ82: =IF(BZ84=0,0,BZ85*1000/BZ84) -> 0 | CA82: =IF(CA84=0,0,CA85*1000/CA84) -> 0 | DD82: =IF(DD84=0,0,DD85*1000/DD84) -> 0 | DE82: =IF(DE84=0,0,DE85*1000/DE84) -> 0 | DF82: =IF(DF84=0,0,DF85*1000/DF84) -> 0 | DG82: =IF(DG84=0,0,DG85*1000/DG84) -> 0
F83: 7.1.2 | J83: с НДС | BD83: =IF(BD84=0,0,BD86*1000/BD84) -> 0 | BE83: =IF(BE84=0,0,BE86*1000/BE84) -> 0 | BF83: =IF(BF84=0,0,BF86*1000/BF84) -> 0 | BG83: =IF(BG84=0,0,BG86*1000/BG84) -> 0 | BX83: =IF(BX84=0,0,BX86*1000/BX84) -> 0 | BY83: =IF(BY84=0,0,BY86*1000/BY84) -> 0 | BZ83: =IF(BZ84=0,0,BZ86*1000/BZ84) -> 0 | CA83: =IF(CA84=0,0,CA86*1000/CA84) -> 0 | DD83: =IF(DD84=0,0,DD86*1000/DD84) -> 0 | DE83: =IF(DE84=0,0,DE86*1000/DE84) -> 0 | DF83: =IF(DF84=0,0,DF86*1000/DF84) -> 0 | DG83: =IF(DG84=0,0,DG86*1000/DG84) -> 0
F84: 7.2 | I84: Объём топлива | BD84: =SUM(BH84,BL84,BP84,BT84) -> 0 | BE84: =SUM(BI84,BM84,BQ84,BU84) -> 0 | BF84: =SUM(BJ84,BN84,BR84,BV84) -> 0 | BG84: =SUM(BK84,BO84,BS84,BW84) -> 0 | BX84: =SUM(CB84,CF84,CJ84,CN84,CR84,CV84) -> 0 | BY84: =SUM(CC84,CG84,CK84,CO84,CS84,CW84) -> 0 | BZ84: =SUM(CD84,CH84,CL84,CP84,CT84,CX84) -> 0 | CA84: =SUM(CE84,CI84,CM84,CQ84,CU84,CY84) -> 0 | DD84: =SUM(DH84,DL84,DP84,DT84,DX84,EB84,EF84,EJ84,EN84) -> 0 | DE84: =SUM(DI84,DM84,DQ84,DU84,DY84,EC84,EG84,EK84,EO84) -> 0 | DF84: =SUM(DJ84,DN84,DR84,DV84,DZ84,ED84,EH84,EL84,EP84) -> 0 | DG84: =SUM(DK84,DO84,DS84,DW84,EA84,EE84,EI84,EM84,EQ84) -> 0
F85: 7.3.1 | I85: Затраты (тыс.руб.) | J85: без НДС | BD85: =SUM(BH85,BL85,BP85,BT85) -> 0 | BE85: =SUM(BI85,BM85,BQ85,BU85) -> 0 | BF85: =SUM(BJ85,BN85,BR85,BV85) -> 0 | BG85: =SUM(BK85,BO85,BS85,BW85) -> 0 | BX85: =SUM(CB85,CF85,CJ85,CN85,CR85,CV85) -> 0 | BY85: =SUM(CC85,CG85,CK85,CO85,CS85,CW85) -> 0 | BZ85: =SUM(CD85,CH85,CL85,CP85,CT85,CX85) -> 0 | CA85: =SUM(CE85,CI85,CM85,CQ85,CU85,CY85) -> 0 | DD85: =SUM(DH85,DL85,DP85,DT85,DX85,EB85,EF85,EJ85,EN85) -> 0 | DE85: =SUM(DI85,DM85,DQ85,DU85,DY85,EC85,EG85,EK85,EO85) -> 0 | DF85: =SUM(DJ85,DN85,DR85,DV85,DZ85,ED85,EH85,EL85,EP85) -> 0 | DG85: =SUM(DK85,DO85,DS85,DW85,EA85,EE85,EI85,EM85,EQ85) -> 0
F86: 7.3.2 | J86: с НДС | BD86: =SUM(BH86,BL86,BP86,BT86) -> 0 | BE86: =SUM(BI86,BM86,BQ86,BU86) -> 0 | BF86: =SUM(BJ86,BN86,BR86,BV86) -> 0 | BG86: =SUM(BK86,BO86,BS86,BW86) -> 0 | BX86: =SUM(CB86,CF86,CJ86,CN86,CR86,CV86) -> 0 | BY86: =SUM(CC86,CG86,CK86,CO86,CS86,CW86) -> 0 | BZ86: =SUM(CD86,CH86,CL86,CP86,CT86,CX86) -> 0 | CA86: =SUM(CE86,CI86,CM86,CQ86,CU86,CY86) -> 0 | DD86: =SUM(DH86,DL86,DP86,DT86,DX86,EB86,EF86,EJ86,EN86) -> 0 | DE86: =SUM(DI86,DM86,DQ86,DU86,DY86,EC86,EG86,EK86,EO86) -> 0 | DF86: =SUM(DJ86,DN86,DR86,DV86,DZ86,ED86,EH86,EL86,EP86) -> 0 | DG86: =SUM(DK86,DO86,DS86,DW86,EA86,EE86,EI86,EM86,EQ86) -> 0
F87: 8.1 | G87: Электроэнергия | H87: Затраты, всего (тыс.руб.) | J87: без НДС
F88: 8.2 | J88: с НДС
...

Sheet Поставки топлива
F8: ="Информация о поставках топлива по итогам "&CURRENT_PERIOD_GENETIVE&" "&PERIOD&" года" -> Информация о поставках топлива по итогам 12 месяцев 2022 года | CQ8: Акциз на мазут
F13: № п/п | G13: ИНН | H13: КПП | I13: Наименование ЮЛ / ИП | K13: Наименование (описание) обособленного подразделения | L13: Вид(-ы) деятельности организации | M13: Плательщик НДС | T13: TAX | X13: № п/п | Z13: Вид топлива | AA13: Марка топлива | AB13: Период | AC13: Наличие поставок и факт использования топлива в периоде | AD13: Поставщик продукции | AJ13: Грузополучатель продукции | AQ13: Контракт / договор, в соответствии с которым осуществлялась отгрузка товара | AT13: Дополнительное соглашение, спецификация либо иное приложение к контракту / договору, в соответствии с которым осуществлялась отгрузка товара | AW13: Основание заключения контракта / договора, в соответствии с которым осуществлялась отгрузка товара | AX13: URL-ссылка на закупку | AY13: Номер закупочной процедуры | AZ13: Дата отгрузки продукции | BB13: Счёт-фактура | BD13: Условие поставки продукции в соответствии с Инкотермс 2020 | BF13: Идентификационный номер внебиржевого договора, зарегистрированного на АО "СПбМТСБ" | BH13: Адрес сайта, на котором размещена документация по конкурентным процедурам | BL13: Станция / место отправления продукции | BN13: Станция / место поставки продукции | BV13: Плечо доставки, км | CA13: Способ доставки топлива | CC13: Цена продукции на базисе контракта / договора (руб./ед.изм.) (включает транспортные расходы и акциз) | CE13: Транспортные расходы (руб./ед.изм.) | CG13: Цена продукции без учёта транспортных расходов и без учёта акциза (руб./ед.изм.) | CI13: Объём отгрузки продукции (ед.изм.) | CJ13: Затраты на продукцию, всего (тыс.руб.) | CQ13: Наличие | CS13: Соответствие организации критериям, установленным пп. 3, п. 1, ст. 179.5. "Свидетельство о регистрации организации, совершающей операции со средними дистиллятами" НК РФ | CT13: Наличие у организации свидетельства о регистрации организации, совершающей операции со средними дистиллятами | CV13: Сумма акциза, всего (тыс.руб.) | CW13: Ставка акциза на средние дистилляты (руб./тонна) | CX13: Постоянная часть акциза (руб./тонна) | CY13: Акциз на дизельное топливо (руб./тонна) | CZ13: Демпфирующая надбавка для дизельного топлива | DA13: Средняя цена экспортной альтернативы для дизельного топлива класса 5 | DB13: Условное значение средней оптовой цены реализации дизельного топлива класса 5 на территории РФ | DC13: Коэффициент | DE13: Использовано топлива: | DI13: ="Запасы топлива прошлых периодов (до "&PERIOD&" года), созданных до 31.12."&PERIOD-1&" включительно (ед.изм.)" -> Запасы топлива прошлых периодов (до 2022 года), созданных до 31.12.2021 включительно (ед.изм.) | DJ13: ="Запасы топлива, созданные в течение "&PERIOD&" года (ед.изм.)" -> Запасы топлива, созданные в течение 2022 года (ед.изм.) | DK13: ="Использование в течение "&PERIOD&" года запасов топлива, в том числе прошлых периодов (до "&PERIOD&" года), создаваемых (созданных) до 31.12."&PERIOD&" включительно (ед.изм.)" -> Использование в течение 2022 года запасов топлива, в том числе прошлых периодов (до 2022 года), создаваемых (созданных) до 31.12.2022 включительно (ед.изм.) | DO13: FUEL MARKER | DQ13: MST | DU13: DSL | DY13: COA | EI13: Примечание
AD14: Наименование | AE14: ИНН | AF14: КПП | AG14: ОГРН | AH14: Юридический адрес | AJ14: Наименование | AK14: ИНН | AL14: КПП | AM14: ОГРН | AN14: Юридический адрес | AQ14: Номер | AR14: Дата заключения | AS14: URL-ссылка на документ | AT14: Номер | AU14: Дата заключения | AV14: URL-ссылка на документ | BB14: URL-ссылка на документ | CC14: без НДС | CD14: с НДС | CE14: без НДС | CF14: с НДС | CG14: без НДС | CH14: с НДС | CJ14: без НДС | CK14: с НДС | CV14: без НДС | CW14: АСДЛ | CX14: АДТ + 750 | CY14: АДТ | CZ14: ДДТ | DA14: ЦДТэксп | DB14: ЦДТвр | DC14: КДТ_КОМП | DE14: Всего | DF14: На выработку тепловой энергии | DG14: На прочие виды деятельности | DI14: Всего в наличии | DJ14: Всего в наличии | DK14: Всего в наличии | DL14: Использовано | DM14: Остаток на конец периода | DQ14: I | DR14: II | DS14: III | DT14: IV | DU14: I | DV14: II | DW14: III | DX14: IV | DY14: I | DZ14: II | EA14: III | EB14: IV
F16: 0
K17: Добавить

Sheet TECHSHEET
A1: Алтайский край | B1: RU22 | C1: Алтайский край | E1: HEAT_PRODUCTION_TYPE_LIST | G1: YES_NO | I1: SUPPLY_FUEL_TYPES | K1: PERIOD | M1: NDS | O1: ooopsg | P1: LOGIN
A2: Амурская область | B2: RU28 | C2: Амурская область | E2: некомбинированное | G2: да | I2: Мазут | K2: 2022 | M2: 1.2 | O2: 49D674623D9CDF23E1B40F2C773E3004 | P2: PASSWORD
A3: Архангельская область | B3: RU29 | C3: Архангельская область | E3: комбинированное, более 25 МВт | G3: нет | I3: Дизельное топливо | O3: MD5 | P3: ATH_SCHEME
A4: Астраханская область | B4: RU30 | C4: Астраханская область | E4: комбинированное, менее 25 МВт | I4: Уголь | K4: CURRENT_PERIOD | O4: YES | P4: RETAIN_PASSWORD
A5: Белгородская область | B5: RU31 | C5: Белгородская область | K5: 12 месяцев | O5: JGWHyHmJjRhZDiMkqfHfZkOjDOgDCIGRQiQqsvCpRqRaxVwsIAdDTneMVDLBQtbz91i143i59i62, 194i226i26i8C395C7584B3E40D9CD9CC8C4EFC6CA0710dFEBd2303t19t11t836587000 | P5: SESSION_ID
A6: Брянская область | B6: RU32 | C6: Брянская область | E6: HEAT_VD_COMPONENTS | I6: SUPPLY_FUEL_GRADES | P6: OBFUSCATED_PASSWORD
A7: Владимирская область | B7: RU33 | C7: Владимирская область | E7: Производство | I7: MASUT_GRADE_LIST | K7: CURRENT_PERIOD_GENETIVE
A8: Волгоградская область | B8: RU34 | C8: Волгоградская область | E8: Передача | I8: DIESEL_GRADE_LIST | K8: 12 месяцев
A9: Вологодская область | B9: RU35 | C9: Вологодская область | E9: Сбыт | I9: COAL_GRADE_LIST
A10: Воронежская область | B10: RU36 | C10: Воронежская область | I10: М-40 | K10: PREVIOUS_PERIOD | M10: Организация
A11: г. Москва | B11: RU77 | C11: Москва | E11: VDET_LIST | I11: М-100 | K11: 9 месяцев | M11: ="01.01."&PERIOD -> 01.01.2022
A12: г. Байконур | B12: RU00 | E12: Комбинированное производство, более 25 МВт | I12: М-200 | M12: ="31.12."&PERIOD -> 31.12.2022
A13: г. Санкт-Петербург | B13: RU78 | C13: Cанкт-Петербург | E13: Комбинированное производство, более 25 МВт :: Передача | I13: мазут марки "Т" | K13: INCOTERMS_2020_TERMS
A14: г. Севастополь | B14: RU92 | C14: Севастополь | E14: Комбинированное производство, более 25 МВт :: Передача :: Сбыт | I14: Ф-5 | K14: EXW (Ex Works / Франко завод) | M14: Виды деятельности
A15: Еврейская автономная область | B15: RU79 | C15: Еврейская автономная область | E15: Комбинированное производство, более 25 МВт :: Сбыт | I15: Ф-12 | K15: FCA (Free Carrier / Франко перевозчик) | M15: ="01.01."&PERIOD -> 01.01.2022
A16: Забайкальский край | B16: RU75 | C16: Забайкальский край | E16: Комбинированное производство, менее 25 МВт | I16: А (арктическое) | K16: CPT (Carriage Paid to / Перевозка оплачена до) | M16: ="31.12."&PERIOD -> 31.12.2022
A17: Ивановская область | B17: RU37 | C17: Ивановская область | E17: Комбинированное производство, менее 25 МВт :: Передача | I17: З (зимнее) | K17: CIP (Carriage and Insurance Paid to / Перевозка и страхование оплачены до)
A18: Иркутская область | B18: RU38 | C18: Иркутская область | E18: Комбинированное производство, менее 25 МВт :: Передача :: Сбыт | I18: Л (летнее) | K18: DPU (Delivered Named Place Unloaded / Поставка на место выгрузки) | M18: Территории
A19: Кабардино-Балкарская республика | B19: RU07 | C19: Республика Кабардино-Балкария | E19: Комбинированное производство, менее 25 МВт :: Сбыт | I19: Е (межсезонное) | K19: DAP (Delivered at Place / Поставка в месте назначения) | M19: ="01.01."&PERIOD -> 01.01.2022
A20: Калининградская область | B20: RU39 | C20: Калининградская область | E20: Некомбинированное производство | I20: антрацит | K20: DDP (Delivered Duty Paid / Поставка с оплатой пошлин) | M20: ="31.12."&PERIOD -> 31.12.2022
A21: Калужская область | B21: RU40 | C21: Калужская область | E21: Некомбинированное производство :: Передача | I21: бурый | K21: FAS (Free Alongside Ship / Свободно вдоль борта судна)
A22: Камчатский край | B22: RU41 | C22: Камчатский край | E22: Некомбинированное производство :: Передача :: Сбыт | I22: газовый | K22: FOB (Free on Board / Свободно на борту)
A23: Карачаево-Черкесская республика | B23: RU09 | C23: Республика Карачаево-Черкессия | E23: Некомбинированное производство :: Сбыт | I23: длиннопламенный | K23: CFR (Cost and Freight / Стоимость и фрахт)
A24: Кемеровская область | B24: RU42 | C24: Кемеровская область | E24: Передача :: Сбыт | I24: жирный | K24: CIF (Cost Insurance and Freight / Стоимость, страхование и фрахт)
A25: Кировская область | B25: RU43 | C25: Кировская область | I25: коксовый
A26: Костромская область | B26: RU44 | C26: Костромская область | I26: отощённо-спекающийся
A27: Краснодарский край | B27: RU23 | C27: Краснодарский край | I27: слабоспекающийся
A28: Красноярский край | B28: RU24 | C28: Красноярский край | I28: тощий
A29: Курганская область | B29: RU45 | C29: Курганская область
A30: Курская область | B30: RU46 | C30: Курская область | I30: SUPPLY_FACT
A31: Ленинградская область | B31: RU47 | C31: Ленинградская область | I31: да
A32: Липецкая область | B32: RU48 | C32: Липецкая область | I32: топливо не использовалось
A33: Магаданская область | B33: RU49 | C33: Магаданская область | I33: использовались запасы прошлых периодов
A34: Московская область | B34: RU50 | C34: Московская область
A35: Мурманская область | B35: RU51 | C35: Мурманская область
A36: Ненецкий автономный округ | B36: RU83 | C36: Ненецкий автономный округ
A37: Нижегородская область | B37: RU52 | C37: Нижегородская область
A38: Новгородская область | B38: RU53 | C38: Новгородская область
A39: Новосибирская область | B39: RU54 | C39: Новосибирская область
A40: Омская область | B40: RU55 | C40: Омская область
...

Sheet TECH_HORISONTAL
A3: ADD_LIST_ORG_RANGE
D4: Изменить | E4: × | G4: =IF(LEN(INN)=0,"Не определено",INN) -> 8614000871 | H4: =IF(LEN(KPP)=0,"Не определено",KPP) -> 861401001 | I4: =IF(LEN(ORG)=0,"Не определено",ORG) -> ООО "ПриобьСтройГарант" | J4: =IF(LEN(OPF)=0,"Не определено",OPF) -> 1 23 00 | Общества с ограниченной ответственностью | P4: =IF(LEN(BZ4)=0,"ACTI","DELD") -> ACTI | U4: =IF(LEN(T4)=0,"",VLOOKUP(T4,OKTMO_VS_TYPE_LIST,2,FALSE)) | CC4: =IF(LEN(Титульный!$H$33)=0,"Не определено",Титульный!$H$33) -> Зыблева Александра Владимировна | CD4: =IF(LEN(Титульный!$H$34)=0,"Не определено",Титульный!$H$34) -> Экономист | CE4: =IF(LEN(Титульный!$H$35)=0,"Не определено",Титульный!$H$35) -> 8 (34678) 24-4-29 | CF4: =IF(LEN(Титульный!$H$36)=0,"Не определено",Титульный!$H$36) -> priobstroygarant@yandex.ru
A7: LIST_SRC_ADD_RANGE
D8: Изменить | E8: Удалить | Q8: 0 | R8: =F8&".0" -> .0 | AB8: 0
AC9: Добавить объект
A12: LIST_SRC_ADD_OBJECT_RANGE
Z13: Изменить | AA13: ×
A19: FUEL_DATA_ADD_RANGE
D20: TBD | E20: Удалить | F20: =B20 -> 0 | G20: МО / Организация / Филиал / Кол-во объектов | M20: =SUM($P31:$GE31)+SUM($P51:$GE51) -> 0 | T20: Включить в расчёт | U20: Включить в расчёт | V20: Включить в расчёт | W20: Включить в расчёт | X20: Включить в расчёт | Y20: Включить в расчёт | Z20: Включить в расчёт | AA20: Включить в расчёт | AB20: Включить в расчёт | AC20: Включить в расчёт | AD20: Включить в расчёт | AE20: Включить в расчёт | AF20: Включить в расчёт | AG20: Включить в расчёт | AH20: Включить в расчёт | AI20: Включить в расчёт | AJ20: Включить в расчёт | AK20: Включить в расчёт | AL20: Включить в расчёт | AM20: Включить в расчёт | AN20: Включить в расчёт | AO20: Включить в расчёт | AP20: Включить в расчёт | AQ20: Включить в расчёт | AR20: Включить в расчёт | AS20: Включить в расчёт | AT20: Включить в расчёт | AU20: Включить в расчёт | AV20: Включить в расчёт | AW20: Включить в расчёт | AX20: Включить в расчёт | AY20: Включить в расчёт | AZ20: Включить в расчёт | BA20: Включить в расчёт | BB20: Включить в расчёт | BC20: Включить в расчёт | BH20: Включить в расчёт | BI20: Включить в расчёт | BJ20: Включить в расчёт | BK20: Включить в расчёт | BL20: Включить в расчёт | BM20: Включить в расчёт | BN20: Включить в расчёт | BO20: Включить в расчёт | BP20: Включить в расчёт | BQ20: Включить в расчёт | BR20: Включить в расчёт | BS20: Включить в расчёт | BT20: Включить в расчёт | BU20: Включить в расчёт | BV20: Включить в расчёт | BW20: Включить в расчёт | CB20: Включить в расчёт | CC20: Включить в расчёт | CD20: Включить в расчёт | CE20: Включить в расчёт | CF20: Включить в расчёт | CG20: Включить в расчёт | CH20: Включить в расчёт | CI20: Включить в расчёт | CJ20: Включить в расчёт | CK20: Включить в расчёт | CL20: Включить в расчёт | CM20: Включить в расчёт | CN20: Включить в расчёт | CO20: Включить в расчёт | CP20: Включить в расчёт | CQ20: Включить в расчёт | CR20: Включить в расчёт | CS20: Включить в расчёт | CT20: Включить в расчёт | CU20: Включить в расчёт | CV20: Включить в расчёт | CW20: Включить в расчёт | CX20: Включить в расчёт | CY20: Включить в расчёт | CZ20: Включить в расчёт | DA20: Включить в расчёт | DB20: Включить в расчёт | DC20: Включить в расчёт | DH20: Включить в расчёт | DI20: Включить в расчёт | DJ20: Включить в расчёт | DK20: Включить в расчёт | DL20: Включить в расчёт | DM20: Включить в расчёт | DN20: Включить в расчёт | DO20: Включить в расчёт | DP20: Включить в расчёт | DQ20: Включить в расчёт | DR20: Включить в расчёт | DS20: Включить в расчёт | DT20: Включить в расчёт | DU20: Включить в расчёт | DV20: Включить в расчёт | DW20: Включить в расчёт | DX20: Включить в расчёт | DY20: Включить в расчёт | DZ20: Включить в расчёт | EA20: Включить в расчёт | EB20: Включить в расчёт | EC20: Включить в расчёт | ED20: Включить в расчёт | EE20: Включить в расчёт | EF20: Включить в расчёт | EG20: Включить в расчёт | EH20: Включить в расчёт | EI20: Включить в расчёт | EJ20: Включить в расчёт | EK20: Включить в расчёт | EL20: Включить в расчёт | EM20: Включить в расчёт | EN20: Включить в расчёт | EO20: Включить в расчёт | EP20: Включить в расчёт | EQ20: Включить в расчёт | ER20: Включить в расчёт | ES20: Включить в расчёт | ET20: Включить в расчёт | EU20: Включить в расчёт | EV20: Включить в расчёт | EW20: Включить в расчёт | EX20: Включить в расчёт | EY20: Включить в расчёт | EZ20: Включить в расчёт | FA20: Включить в расчёт | FB20: Включить в расчёт | FC20: Включить в расчёт | FD20: Включить в расчёт | FE20: Включить в расчёт | FF20: Включить в расчёт | FG20: Включить в расчёт | FH20: Включить в расчёт | FI20: Включить в расчёт | FJ20: Включить в расчёт | FK20: Включить в расчёт | FL20: Включить в расчёт | FM20: Включить в расчёт | FN20: Включить в расчёт | FO20: Включить в расчёт | FP20: Включить в расчёт | FQ20: Включить в расчёт | FR20: Включить в расчёт | FS20: Включить в расчёт | FT20: Включить в расчёт | FU20: Включить в расчёт | FV20: Включить в расчёт | FW20: Включить в расчёт | FX20: Включить в расчёт | FY20: Включить в расчёт | FZ20: Включить в расчёт | GA20: Включить в расчёт | GB20: Включить в расчёт | GC20: Включить в расчёт | GD20: Включить в расчёт | GE20: Включить в расчёт | GH20: =SUMIF($P$53:$GE$53,"12 месяцев",$P31:$GE31)+SUMIF($P$53:$GE$53,"12 месяцев",$P51:$GE51) -> 0 | GI20: =SUMIF($P$53:$GE$53,"9 месяцев",$P31:$GE31)+SUMIF($P$53:$GE$53,"9 месяцев",$P51:$GE51) -> 0 | GJ20: =SUMIF($P$53:$GE$53,"I полугодие",$P31:$GE31)+SUMIF($P$53:$GE$53,"I полугодие",$P51:$GE51) -> 0 | GK20: =SUMIF($P$53:$GE$53,"I квартал",$P31:$GE31)+SUMIF($P$53:$GE$53,"I квартал",$P51:$GE51) -> 0
Q21: =$D20 -> TBD | R21: =$D20 -> TBD | S21: =$D20 -> TBD | BE21: =$D20 -> TBD | BF21: =$D20 -> TBD | BG21: =$D20 -> TBD | BY21: =$D20 -> TBD | BZ21: =$D20 -> TBD | CA21: =$D20 -> TBD | DE21: =$D20 -> TBD | DF21: =$D20 -> TBD | DG21: =$D20 -> TBD
